{
 "version": 1.0,
 "tileBundlesPath": "./tile",
 "tileInfo": {
  "spatialReference": {
   "wkid": 2927,
   "latestWkid": 2927
  },
  "origin": {
   "x": -117498300,
   "y": 139427100
  },
  "rows": 256,
  "cols": 256,
  "dpi": 96,
  "lods": [
   {
    "level": 0,
    "resolution": 217.01388888888889,
    "scale": 250000
   },
   {
    "level": 1,
    "resolution": 108.50694444444444,
    "scale": 125000
   },
   {
    "level": 2,
    "resolution": 54.25347222222222,
    "scale": 62500
   },
   {
    "level": 3,
    "resolution": 27.12673611111111,
    "scale": 31250
   },
   {
    "level": 4,
    "resolution": 13.563368055555555,
    "scale": 15625
   },
   {
    "level": 5,
    "resolution": 6.781684027777778,
    "scale": 7812.5
   },
   {
    "level": 6,
    "resolution": 3.390842013888889,
    "scale": 3906.25
   },
   {
    "level": 7,
    "resolution": 1.6954210069444444,
    "scale": 1953.125
   },
   {
    "level": 8,
    "resolution": 0.8477105034722222,
    "scale": 976.5625
   }
  ],
  "format": "MIXED",
  "compressionQuality": 75,
  "bandCount": 1,
  "lercError": 0,
  "storageFormat": "esriMapCacheStorageModeCompactV2",
  "packetSize": 128
 },
 "storageInfo": {
  "packetSize": 128,
  "storageFormat": "esriMapCacheStorageModeCompactV2"
 },
 "tileImageInfo": {
  "format": "MIXED",
  "compressionQuality": 75,
  "bandCount": 1,
  "lercError": 0
 },
 "name": "ExportTileCache",
 "minLOD": 0,
 "maxLOD": 8,
 "spatialReference": {
  "wkid": 2927,
  "latestWkid": 2927
 },
 "units": "esriFeet",
 "serviceDescription": "",
 "resampling": true,
 "initialExtent": {
  "xmin": 1797188.993326828,
  "ymin": 182069.27897135087,
  "xmax": 2038922.1204969669,
  "ymax": 481183.082411021,
  "spatialReference": {
   "wkid": 2927,
   "latestWkid": 2927
  }
 },
 "fullExtent": {
  "xmin": 1797188.993326828,
  "ymin": 182069.27897135087,
  "xmax": 2038922.1204969669,
  "ymax": 481183.082411021,
  "spatialReference": {
   "wkid": 2927,
   "latestWkid": 2927
  }
 },
 "minScale": 147914382,
 "maxScale": 0,
 "exportTilesAllowed": false,
 "maxExportTilesCount": 0,
 "currentVersion": 11.5,
 "mapName": "ExportTileCache",
 "singleFusedMapCache": true,
 "type": "MapServer",
 "supportedExtensions": "",
 "capabilities": "TilesOnly,Tilemap",
 "serviceItemId": "609e6fc73c1342eab5074735270c2430"
}
